BEGIN:VCALENDAR
VERSION:2.0
PRODID:-//Site AFD - ECPv6.15.20//NONSGML v1.0//EN
CALSCALE:GREGORIAN
METHOD:PUBLISH
X-ORIGINAL-URL:https://france-dragon.org
X-WR-CALDESC:Évènements pour Site AFD
REFRESH-INTERVAL;VALUE=DURATION:PT1H
X-Robots-Tag:noindex
X-PUBLISHED-TTL:PT1H
BEGIN:VTIMEZONE
TZID:Europe/Paris
BEGIN:DAYLIGHT
TZOFFSETFROM:+0100
TZOFFSETTO:+0200
TZNAME:CEST
DTSTART:20250330T010000
END:DAYLIGHT
BEGIN:STANDARD
TZOFFSETFROM:+0200
TZOFFSETTO:+0100
TZNAME:CET
DTSTART:20251026T010000
END:STANDARD
BEGIN:DAYLIGHT
TZOFFSETFROM:+0100
TZOFFSETTO:+0200
TZNAME:CEST
DTSTART:20260329T010000
END:DAYLIGHT
BEGIN:STANDARD
TZOFFSETFROM:+0200
TZOFFSETTO:+0100
TZNAME:CET
DTSTART:20261025T010000
END:STANDARD
BEGIN:DAYLIGHT
TZOFFSETFROM:+0100
TZOFFSETTO:+0200
TZNAME:CEST
DTSTART:20270328T010000
END:DAYLIGHT
BEGIN:STANDARD
TZOFFSETFROM:+0200
TZOFFSETTO:+0100
TZNAME:CET
DTSTART:20271031T010000
END:STANDARD
END:VTIMEZONE
BEGIN:VEVENT
DTSTART;VALUE=DATE:20260429
DTEND;VALUE=DATE:20260503
DTSTAMP:20260422T215828
CREATED:20260410T111508Z
LAST-MODIFIED:20260410T130923Z
UID:2169-1777420800-1777766399@france-dragon.org
SUMMARY:Grand Prix Dragon Douarnenez 2026
DESCRIPTION:La sr douarnenez organise du 29 avril au 2 mai le Grand Prix Dragon Douarnenez première épreuve du Trophée Atlantique 2026.\n\nCoefficient 1.3 Pour la Coupe de France.
URL:https://france-dragon.org/event/grand-prix-dragon-douarnenez-2026/
LOCATION:Douarnenez\, 59 Quai de L'Yser\, Douarnenez\, 29100
CATEGORIES:Épreuves nationales
ATTACH;FMTTYPE=image/jpeg:https://france-dragon.org/wp-content/uploads/2026/03/LG_5117.jpg
END:VEVENT
END:VCALENDAR